BEGIN:VCALENDAR
VERSION:2.0
PRODID:-//wp-events-plugin.com//7.2.3.1//EN
TZID:Europe/Berlin
X-WR-TIMEZONE:Europe/Berlin
BEGIN:VEVENT
UID:6@la-gks.de
DTSTART;TZID=Europe/Berlin:20250414T160000
DTEND;TZID=Europe/Berlin:20250414T170000
DTSTAMP:20250605T082845Z
URL:https://www.la-gks.de/events/hoshizaki/
SUMMARY:Hoshizaki
DESCRIPTION:Hoshizaki - Testveranstaltung\nSie interessieren sich für die 
 besten Eiswürfel für Ihre Gastro? Dann ist diese Veranstaltung sicherlic
 h das richtige für Ihre Bedürfnisse. Bei LA-GKS findet ein Event statt\,
  bei denen Ihnen die Eiswürfel bereits in der Hand schmelzen... Im Anschl
 uss haben Sie durchsichtige Eisflüssigkeit welche auch noch hervorragend 
 neutral erfrischend schmeckt... Der Hersteller von entsprechenden Profi-Ei
 smaschinen präsentiert sich hier von seiner eiskalten Seite und führt in
 teressierten Gastroprofis die neueste Eiswasser-Technik hautnahe vor... Je
 tzt hier - für Sie - kostenfrei buchen...
ATTACH;FMTTYPE=image/jpeg:https://www.la-gks.de/wp-content/uploads/2025/02
 /hoshizaki-preisliste-2025.jpg
LOCATION:LA-GKS Zentrale\, Torstraße 32\, Rückgebäude im Innenhof\, Hebe
 rtshausen\, 85241 \, Bayern\, Deutschland
GEO:48.28917;11.479609
X-APPLE-STRUCTURED-LOCATION;VALUE=URI;X-ADDRESS=Torstraße 32\, Rückgebäu
 de im Innenhof\, Hebertshausen\, 85241 \, Bayern\, Deutschland;X-APPLE-RAD
 IUS=100;X-TITLE=LA-GKS Zentrale:geo:48.28917,11.479609
END:VEVENT
BEGIN:VTIMEZONE
TZID:Europe/Berlin
X-LIC-LOCATION:Europe/Berlin
BEGIN:DAYLIGHT
DTSTART:20250330T030000
TZOFFSETFROM:+0100
TZOFFSETTO:+0200
TZNAME:CEST
END:DAYLIGHT
END:VTIMEZONE
END:VCALENDAR