BEGIN:VCALENDAR
VERSION:2.0
PRODID:-//wp-events-plugin.com//7.2.3.1//EN
TZID:Europe/Berlin
X-WR-TIMEZONE:Europe/Berlin
BEGIN:VEVENT
UID:8@la-gks.de
DTSTART;TZID=Europe/Berlin:20250721T130000
DTEND;TZID=Europe/Berlin:20250721T160000
DTSTAMP:20250605T075838Z
URL:https://www.la-gks.de/events/pacossieren-live-kurs-mit-pacojet-voranme
 ldung/
SUMMARY:Pacossieren-Live-Kurs mit pacojet - Voranmeldung
DESCRIPTION:PACO-JET  live erleben am 21.07.2025 bei LA-GKS!\nWollten Sie 
 schon immer den PACOJET im praxisnahen Einsatz durch echte pacojet-Profis 
 erleben? Hier bekommen Sie jetzt die Chance in all die PACOJET-Funktionen 
 und Möglichkeiten\, sowie Vorteile für Ihren Küchenalltag Einblicke zu 
 bekommen. Viele Tipps und kreative Beispiele vermitteln sicherlich einen l
 ehrreichen Tag\, egal ob Sie schon mit Pacojet arbeiten oder auch noch nic
 ht. Die Veranstaltung ist für Interessenten frei von Kosten und spricht a
 uch Köche im Angestelltenverhältnis an.\nIn entspannter Atmosphäre lade
 n wir Sie herzlich zu unseren Live-Events bei Landauer Grossküchenservice
  ein – mit köstlichen Snacks\, erfrischenden Drinks und jeder Menge spa
 nnender Einsichten. Erleben Sie den PACOJET live in Aktion – direkt bei 
 uns im Haus. Unsere brandneue Schauküche ist bereit\, entdeckt zu werden\
 , und freut sich auf interessierte Gäste und neugierige Fragen. Ein beson
 deres Highlight: Exklusive Sonderpreise für Pacojet-Produkte – nur für
  unsere Event-Teilnehmer*innen!\nJetzt anmelden und beim Pacossieren-Live-
 Kurs im Juli dabei sein!\n\nDas erwartet Sie:\n\n 	Kleine Gruppe – viel 
 Raum für Fragen\n 	Praxisnahe Anwendungen mit echtem Mehrwert\n 	Direktes
  Probieren der zubereiteten Speisen\n 	Durchgeführt von echten PACOJET-Pr
 ofis\n 	Kursunterlagen mit Rezepten\n 	Teilnehmerzertifikat\n 	Unverbindli
 ch &amp\; kostenlos\n\n&nbsp\;\nVorschauvideo "Pacossieren Live-Event"\n[a
 v_video src='https://youtu.be/tK7fiFeAgHI?si=F2n3yePc0UKXucjw' mobile_imag
 e='https://www.la-gks.de/wp-content/uploads/2025/06/pacojet-live-vorschaub
 ild-video.jpg' attachment='9264' attachment_size='full' format='16-9' widt
 h='16' height='9' conditional_play='confirm_all' id='' custom_class='' tem
 plate_class='' av_uid='' sc_version='1.0']\n\n&nbsp\;\n\nWir freuen uns au
 f Ihre Anmeldung und auf viele inspirierende Begegnungen vor Ort!\n\n&nbsp
 \;\n\n[av_gallery ids='9267\,9266\,9265' ids_dynamic='' style='thumbnails'
  preview_size='portfolio' crop_big_preview_thumbnail='avia-gallery-big-cro
 p-thumb' thumb_size='medium' columns='3' thumbs_hover='' control_layout='a
 v-control-hidden' slider_navigation='av-navigate-arrows' nav_visibility_de
 sktop='' nav_arrow_color='' nav_arrow_bg_color='' imagelink='lightbox' lin
 k_dest='' lightbox_text='no_text' lazyload='animations_off' img_scrset='' 
 html_lazy_loading='enabled' alb_description='' id='' custom_class='' templ
 ate_class='' av_uid='' sc_version='1.0' admin_preview_bg='']
ATTACH;FMTTYPE=image/jpeg:https://www.la-gks.de/wp-content/uploads/2025/06
 /pacojet-logo-gastrotechnik-.jpg
LOCATION:LA-GKS Zentrale\, Torstraße 32\, Rückgebäude im Innenhof\, Hebe
 rtshausen\, 85241 \, Bayern\, Deutschland
GEO:48.28917;11.479609
X-APPLE-STRUCTURED-LOCATION;VALUE=URI;X-ADDRESS=Torstraße 32\, Rückgebäu
 de im Innenhof\, Hebertshausen\, 85241 \, Bayern\, Deutschland;X-APPLE-RAD
 IUS=100;X-TITLE=LA-GKS Zentrale:geo:48.28917,11.479609
END:VEVENT
BEGIN:VTIMEZONE
TZID:Europe/Berlin
X-LIC-LOCATION:Europe/Berlin
BEGIN:DAYLIGHT
DTSTART:20250330T030000
TZOFFSETFROM:+0100
TZOFFSETTO:+0200
TZNAME:CEST
END:DAYLIGHT
END:VTIMEZONE
END:VCALENDAR