BEGIN:VCALENDAR
VERSION:2.0
PRODID:-//wp-events-plugin.com//7.2.3.1//EN
TZID:Europe/Berlin
X-WR-TIMEZONE:Europe/Berlin
BEGIN:VEVENT
UID:2@la-gks.de
DTSTART;TZID=Europe/Berlin:20250526T140000
DTEND;TZID=Europe/Berlin:20250526T163000
DTSTAMP:20250605T075516Z
URL:https://www.la-gks.de/events/rational-live-icombi-ivario-voranmeldung-
 mai/
SUMMARY:RATIONAL LIVE (iCombi + iVario) Voranmeldung
DESCRIPTION:Willkommen zurück – Live erleben bei LA-GKS!\nWir freuen uns
  sehr\, Sie endlich wieder persönlich bei uns begrüßen zu dürfen! In e
 ntspannter Atmosphäre laden wir Sie herzlich zu unseren Live-Events ein 
 – mit köstlichen Snacks\, erfrischenden Drinks und jeder Menge spannend
 er Einblicke.\nErleben Sie beide Geräte der Firma RATIONAL live in Aktion
  – direkt bei uns im Haus. Unsere brandneue Küche ist bereit\, entdeckt
  zu werden\, und freut sich auf interessierte Gäste und neugierige Fragen
 .\nEin besonderes Highlight: Exklusive Sonderpreise für RATIONAL-Produkte
  – nur für unsere Event-Teilnehmer*innen!\n\nJetzt anmelden und beim Op
 ening unserer neuen Küche dabei sein!\n\nDas erwartet Sie:\n• Einmal an
 melden – zwei Geräte live erleben\n• Kleine Gruppen – viel Raum fü
 r Fragen\n• Praxisnahe Anwendungen mit echtem Mehrwert\n• Direktes Pro
 bieren der zubereiteten Speisen\n• Durchgeführt von echten RATIONAL-Pro
 fis\n• Unverbindlich &amp\; kostenlos\n\nUnser Menü für Sie:\n\nAsia B
 owl - Hähnchen / Hendl - Pak Choi\n\nMie Nudeln - Sesam - Soja - Koriande
 r - Chili\n\n&nbsp\;\n\nLammhüfte orientalisch - Jogurt - Koriander - Hum
 us - Granatapfel\n\nTomahawk vom Schwein - Grillgemüse - Tapenade\n\nAust
 ernpilze - Dip - Zitrone\n\nLachsforelle - Brokkoli - Pinienkerne - Blinis
 \n\n&nbsp\;\n\nQuinoa - Kokos - Granatapfel - Jogurt\n\nApfel - Blätterte
 ig - Vanille - Minze\n\n&nbsp\;\n\nWir freuen uns auf Ihre Anmeldung und a
 uf viele inspirierende Begegnungen vor Ort!\n\n&nbsp\;\n\n
ATTACH;FMTTYPE=image/jpeg:https://www.la-gks.de/wp-content/uploads/2025/04
 /2-1.jpg
LOCATION:LA-GKS Zentrale\, Torstraße 32\, Rückgebäude im Innenhof\, Hebe
 rtshausen\, 85241 \, Bayern\, Deutschland
GEO:48.28917;11.479609
X-APPLE-STRUCTURED-LOCATION;VALUE=URI;X-ADDRESS=Torstraße 32\, Rückgebäu
 de im Innenhof\, Hebertshausen\, 85241 \, Bayern\, Deutschland;X-APPLE-RAD
 IUS=100;X-TITLE=LA-GKS Zentrale:geo:48.28917,11.479609
END:VEVENT
BEGIN:VTIMEZONE
TZID:Europe/Berlin
X-LIC-LOCATION:Europe/Berlin
BEGIN:DAYLIGHT
DTSTART:20250330T030000
TZOFFSETFROM:+0100
TZOFFSETTO:+0200
TZNAME:CEST
END:DAYLIGHT
END:VTIMEZONE
END:VCALENDAR